BEGIN:VCALENDAR
VERSION:2.0
PRODID:-//Nepali Calendar//EN
BEGIN:VEVENT
UID:79b36ecac4d8353cb2e9de7c0bd0cf73@nepalicalendar.com
DTSTAMP:20260422T041644Z
DTSTART;VALUE=DATE:20250325
DTEND;VALUE=DATE:20250326
SUMMARY:SEE २०८१-अनिवार्य विज्ञान तथा प्रविधि
DESCRIPTION:SEE २०८१-अनिवार्य विज्ञान तथा प्रविधि
END:VEVENT
END:VCALENDAR