BEGIN:VCALENDAR
VERSION:2.0
PRODID:-//Nepali Calendar//EN
BEGIN:VEVENT
UID:83c8182e367a3cbd8d9d7b5d4c776f2e@nepalicalendar.com
DTSTAMP:20260422T041150Z
DTSTART;VALUE=DATE:20250325
DTEND;VALUE=DATE:20250326
SUMMARY:पापमोचिनी एकादशी व्रत
DESCRIPTION:पापमोचिनी एकादशी व्रत
END:VEVENT
END:VCALENDAR