BEGIN:VCALENDAR
VERSION:2.0
PRODID:-//Nepali Calendar//EN
BEGIN:VEVENT
UID:a4bcde21a21c9bfd63782eaee0edac8c@nepalicalendar.com
DTSTAMP:20260422T074810Z
DTSTART;VALUE=DATE:20250128
DTEND;VALUE=DATE:20250129
SUMMARY:नेपाल नर्सिङ्ग दिवस
DESCRIPTION:नेपाल नर्सिङ्ग दिवस
END:VEVENT
END:VCALENDAR