BEGIN:VCALENDAR
VERSION:2.0
PRODID:-//Nepali Calendar//EN
BEGIN:VEVENT
UID:d6220568d8947fc6f1aac848567a1864@nepalicalendar.com
DTSTAMP:20260422T060744Z
DTSTART;VALUE=DATE:20250226
DTEND;VALUE=DATE:20250227
SUMMARY:सेना दिवस
DESCRIPTION:सेना दिवस
END:VEVENT
END:VCALENDAR