BEGIN:VCALENDAR
VERSION:2.0
PRODID:-//Nepali Calendar//EN
BEGIN:VEVENT
UID:116ecf0d41caf41f0c6bb324e6ace6ff@nepalicalendar.com
DTSTAMP:20260422T060330Z
DTSTART;VALUE=DATE:20250226
DTEND;VALUE=DATE:20250227
SUMMARY:सिलाचःह्रे पूजा
DESCRIPTION:सिलाचःह्रे पूजा
END:VEVENT
END:VCALENDAR