BEGIN:VCALENDAR
VERSION:2.0
PRODID:-//Nepali Calendar//EN
BEGIN:VEVENT
UID:ebd508c7bd3b6a42c8b85d211d9f14a9@nepalicalendar.com
DTSTAMP:20260422T060534Z
DTSTART;VALUE=DATE:20250226
DTEND;VALUE=DATE:20250227
SUMMARY:महाशिवरात्रि व्रत
DESCRIPTION:महाशिवरात्रि व्रत
END:VEVENT
END:VCALENDAR