BEGIN:VCALENDAR
VERSION:2.0
PRODID:-//Nepali Calendar//EN
BEGIN:VEVENT
UID:8e3a7b81aaf0013e3e2c9b615b2ae052@nepalicalendar.com
DTSTAMP:20260422T041644Z
DTSTART;VALUE=DATE:20250324
DTEND;VALUE=DATE:20250325
SUMMARY:विश्व क्षयरोग दिवस
DESCRIPTION:विश्व क्षयरोग दिवस
END:VEVENT
END:VCALENDAR