BEGIN:VCALENDAR
VERSION:2.0
PRODID:-//Nepali Calendar//EN
BEGIN:VEVENT
UID:a92fff17cb60131ad2669317a10983c3@nepalicalendar.com
DTSTAMP:20260422T074253Z
DTSTART;VALUE=DATE:20250127
DTEND;VALUE=DATE:20250128
SUMMARY:सोम प्रदोष व्रत
DESCRIPTION:सोम प्रदोष व्रत
END:VEVENT
END:VCALENDAR