BEGIN:VCALENDAR
VERSION:2.0
PRODID:-//Nepali Calendar//EN
BEGIN:VEVENT
UID:d99389464b636a0c720480ed6ef4b49c@nepalicalendar.com
DTSTAMP:20260421T231804Z
DTSTART;VALUE=DATE:20250715
DTEND;VALUE=DATE:20250716
SUMMARY:विश्व युवा दक्षता दिवस
DESCRIPTION:विश्व युवा दक्षता दिवस
END:VEVENT
END:VCALENDAR