BEGIN:VCALENDAR
VERSION:2.0
PRODID:-//Nepali Calendar//EN
BEGIN:VEVENT
UID:e8bb923be88b582c93695044185bf833@nepalicalendar.com
DTSTAMP:20260422T060448Z
DTSTART;VALUE=DATE:20250225
DTEND;VALUE=DATE:20250226
SUMMARY:प्रदोष व्रत
DESCRIPTION:प्रदोष व्रत
END:VEVENT
END:VCALENDAR