BEGIN:VCALENDAR
VERSION:2.0
PRODID:-//Nepali Calendar//EN
BEGIN:VEVENT
UID:df33f378559b37899119361d61881492@nepalicalendar.com
DTSTAMP:20260422T041339Z
DTSTART;VALUE=DATE:20250323
DTEND;VALUE=DATE:20250324
SUMMARY:विश्व मौसम विज्ञान दिवस
DESCRIPTION:विश्व मौसम विज्ञान दिवस
END:VEVENT
END:VCALENDAR