BEGIN:VCALENDAR
VERSION:2.0
PRODID:-//Nepali Calendar//EN
BEGIN:VEVENT
UID:9efce61fd503727aab3abc6774dedb85@nepalicalendar.com
DTSTAMP:20260422T041547Z
DTSTART;VALUE=DATE:20250323
DTEND;VALUE=DATE:20250324
SUMMARY:SEE २०८१-अनिवार्य गणित
DESCRIPTION:SEE २०८१-अनिवार्य गणित
END:VEVENT
END:VCALENDAR