BEGIN:VCALENDAR
VERSION:2.0
PRODID:-//Nepali Calendar//EN
BEGIN:VEVENT
UID:79567a6e9db6c325a7fd5a8856a71bc5@nepalicalendar.com
DTSTAMP:20260422T074804Z
DTSTART;VALUE=DATE:20250126
DTEND;VALUE=DATE:20250127
SUMMARY:अन्तर्राष्ट्रिय भन्सार दिवस
DESCRIPTION:अन्तर्राष्ट्रिय भन्सार दिवस
END:VEVENT
END:VCALENDAR