BEGIN:VCALENDAR
VERSION:2.0
PRODID:-//Nepali Calendar//EN
BEGIN:VEVENT
UID:a4c8d6d6d97df5d37e3c6d011d5fbe78@nepalicalendar.com
DTSTAMP:20260422T074642Z
DTSTART;VALUE=DATE:20250126
DTEND;VALUE=DATE:20250127
SUMMARY:विश्व कुष्ठरोग दिवस
DESCRIPTION:विश्व कुष्ठरोग दिवस
END:VEVENT
END:VCALENDAR