BEGIN:VCALENDAR
VERSION:2.0
PRODID:-//Nepali Calendar//EN
BEGIN:VEVENT
UID:75df779fb3290dbe469ca1479fcb85da@nepalicalendar.com
DTSTAMP:20260422T041710Z
DTSTART;VALUE=DATE:20250322
DTEND;VALUE=DATE:20250323
SUMMARY:शीतलाष्टमी व्रत
DESCRIPTION:शीतलाष्टमी व्रत
END:VEVENT
END:VCALENDAR