BEGIN:VCALENDAR
VERSION:2.0
PRODID:-//Nepali Calendar//EN
BEGIN:VEVENT
UID:8f6b6ecf42269deaf0013f411d8ae1a4@nepalicalendar.com
DTSTAMP:20260422T041817Z
DTSTART;VALUE=DATE:20250322
DTEND;VALUE=DATE:20250323
SUMMARY:विश्व जल दिवस
DESCRIPTION:विश्व जल दिवस
END:VEVENT
END:VCALENDAR