BEGIN:VCALENDAR
VERSION:2.0
PRODID:-//Nepali Calendar//EN
BEGIN:VEVENT
UID:4fbcc670873391c995ded14722cb69c9@nepalicalendar.com
DTSTAMP:20260422T060238Z
DTSTART;VALUE=DATE:20250224
DTEND;VALUE=DATE:20250225
SUMMARY:विजया एकादशी व्रत
DESCRIPTION:विजया एकादशी व्रत
END:VEVENT
END:VCALENDAR