BEGIN:VCALENDAR
VERSION:2.0
PRODID:-//Nepali Calendar//EN
BEGIN:VEVENT
UID:9e363b53eb435d11daf91cbe23e3fbec@nepalicalendar.com
DTSTAMP:20260422T041236Z
DTSTART;VALUE=DATE:20250321
DTEND;VALUE=DATE:20250322
SUMMARY:विश्व कविता दिवस
DESCRIPTION:विश्व कविता दिवस
END:VEVENT
END:VCALENDAR