BEGIN:VCALENDAR
VERSION:2.0
PRODID:-//Nepali Calendar//EN
BEGIN:VEVENT
UID:7b5e3ff8d725b91c6824473504dc0223@nepalicalendar.com
DTSTAMP:20260421T231935Z
DTSTART;VALUE=DATE:20250715
DTEND;VALUE=DATE:20250716
SUMMARY:बीतक कथा प्रारम्भ
DESCRIPTION:बीतक कथा प्रारम्भ
END:VEVENT
END:VCALENDAR