BEGIN:VCALENDAR
VERSION:2.0
PRODID:-//Nepali Calendar//EN
BEGIN:VEVENT
UID:f68e5fd430f299b49db19bf9e84cff1f@nepalicalendar.com
DTSTAMP:20260422T041527Z
DTSTART;VALUE=DATE:20250321
DTEND;VALUE=DATE:20250322
SUMMARY:SEE २०८१ -अनिवार्य नेपाली
DESCRIPTION:SEE २०८१ -अनिवार्य नेपाली
END:VEVENT
END:VCALENDAR