BEGIN:VCALENDAR
VERSION:2.0
PRODID:-//Nepali Calendar//EN
BEGIN:VEVENT
UID:d841d4a4bf10c8e8a8278bd3e332446b@nepalicalendar.com
DTSTAMP:20260422T074502Z
DTSTART;VALUE=DATE:20250125
DTEND;VALUE=DATE:20250126
SUMMARY:षट्तिला एकादशी व्रत
DESCRIPTION:षट्तिला एकादशी व्रत
END:VEVENT
END:VCALENDAR