BEGIN:VCALENDAR
VERSION:2.0
PRODID:-//Nepali Calendar//EN
BEGIN:VEVENT
UID:1270f2fe04ddbebfafc3ebf5673cbf29@nepalicalendar.com
DTSTAMP:20260422T074642Z
DTSTART;VALUE=DATE:20250124
DTEND;VALUE=DATE:20250125
SUMMARY:अन्तर्राष्ट्रिय शिक्षा दिवस
DESCRIPTION:अन्तर्राष्ट्रिय शिक्षा दिवस
END:VEVENT
END:VCALENDAR