BEGIN:VCALENDAR
VERSION:2.0
PRODID:-//Nepali Calendar//EN
BEGIN:VEVENT
UID:8f7896e1c41953ae6570d4b35289a5cb@nepalicalendar.com
DTSTAMP:20260422T041548Z
DTSTART;VALUE=DATE:20250320
DTEND;VALUE=DATE:20250321
SUMMARY:SEE २०८१ प्रारम्भ-अनिवार्य अङ्ग्रेजी
DESCRIPTION:SEE २०८१ प्रारम्भ-अनिवार्य अङ्ग्रेजी
END:VEVENT
END:VCALENDAR