BEGIN:VCALENDAR
VERSION:2.0
PRODID:-//Nepali Calendar//EN
BEGIN:VEVENT
UID:845cffda8bb080cc6be232de56c712f0@nepalicalendar.com
DTSTAMP:20260422T041711Z
DTSTART;VALUE=DATE:20250320
DTEND;VALUE=DATE:20250321
SUMMARY:अन्तर्राष्ट्रिय खुशी दिवस
DESCRIPTION:अन्तर्राष्ट्रिय खुशी दिवस
END:VEVENT
END:VCALENDAR