BEGIN:VCALENDAR
VERSION:2.0
PRODID:-//Nepali Calendar//EN
BEGIN:VEVENT
UID:2485427e24f66c70cf80ef7a5e05b639@nepalicalendar.com
DTSTAMP:20260422T041118Z
DTSTART;VALUE=DATE:20250320
DTEND;VALUE=DATE:20250321
SUMMARY:विश्व मुख स्वास्थ्य दिवस
DESCRIPTION:विश्व मुख स्वास्थ्य दिवस
END:VEVENT
END:VCALENDAR