BEGIN:VCALENDAR
VERSION:2.0
PRODID:-//Nepali Calendar//EN
BEGIN:VEVENT
UID:d8da9f0ae8f2477763a94ca3a8d16701@nepalicalendar.com
DTSTAMP:20260422T060836Z
DTSTART;VALUE=DATE:20250221
DTEND;VALUE=DATE:20250222
SUMMARY:अन्तर्राष्ट्रिय मातृभाषा दिवस
DESCRIPTION:अन्तर्राष्ट्रिय मातृभाषा दिवस
END:VEVENT
END:VCALENDAR