BEGIN:VCALENDAR
VERSION:2.0
PRODID:-//Nepali Calendar//EN
BEGIN:VEVENT
UID:4004fb135e8582b9d5a1a30219a52d93@nepalicalendar.com
DTSTAMP:20260422T041527Z
DTSTART;VALUE=DATE:20250318
DTEND;VALUE=DATE:20250319
SUMMARY:मंगलचौथी व्रत
DESCRIPTION:मंगलचौथी व्रत
END:VEVENT
END:VCALENDAR