BEGIN:VCALENDAR
VERSION:2.0
PRODID:-//Nepali Calendar//EN
BEGIN:VEVENT
UID:941beb7d18c8d8df044a73a5add71000@nepalicalendar.com
DTSTAMP:20260422T041650Z
DTSTART;VALUE=DATE:20250318
DTEND;VALUE=DATE:20250319
SUMMARY:सामाजिक कार्य दिवस
DESCRIPTION:सामाजिक कार्य दिवस
END:VEVENT
END:VCALENDAR