BEGIN:VCALENDAR
VERSION:2.0
PRODID:-//Nepali Calendar//EN
BEGIN:VEVENT
UID:d6f346f9fdb91640e33f2f0a210453ef@nepalicalendar.com
DTSTAMP:20260422T060646Z
DTSTART;VALUE=DATE:20250220
DTEND;VALUE=DATE:20250221
SUMMARY:सामाजिक न्याय दिवस
DESCRIPTION:सामाजिक न्याय दिवस
END:VEVENT
END:VCALENDAR