BEGIN:VCALENDAR
VERSION:2.0
PRODID:-//Nepali Calendar//EN
BEGIN:VEVENT
UID:0247fa1bcaf60602516dcccd78c109e1@nepalicalendar.com
DTSTAMP:20260421T231758Z
DTSTART;VALUE=DATE:20250713
DTEND;VALUE=DATE:20250714
SUMMARY:भानु जयन्ती
DESCRIPTION:भानु जयन्ती
END:VEVENT
END:VCALENDAR