BEGIN:VCALENDAR
VERSION:2.0
PRODID:-//Nepali Calendar//EN
BEGIN:VEVENT
UID:d4865ea53a775e0ad0d93d04ac6d6ba6@nepalicalendar.com
DTSTAMP:20260422T074605Z
DTSTART;VALUE=DATE:20250122
DTEND;VALUE=DATE:20250123
SUMMARY:गोरखकाली पूजा
DESCRIPTION:गोरखकाली पूजा
END:VEVENT
END:VCALENDAR