BEGIN:VCALENDAR
VERSION:2.0
PRODID:-//Nepali Calendar//EN
BEGIN:VEVENT
UID:372173f3a6ce413b4a2f526acc960d93@nepalicalendar.com
DTSTAMP:20260422T060222Z
DTSTART;VALUE=DATE:20250220
DTEND;VALUE=DATE:20250221
SUMMARY:गोरखकाली पूजा
DESCRIPTION:गोरखकाली पूजा
END:VEVENT
END:VCALENDAR