BEGIN:VCALENDAR
VERSION:2.0
PRODID:-//Nepali Calendar//EN
BEGIN:VEVENT
UID:8002bd72362ff0ce63f37fc9403f32b8@nepalicalendar.com
DTSTAMP:20260422T060750Z
DTSTART;VALUE=DATE:20250219
DTEND;VALUE=DATE:20250220
SUMMARY:निर्वाचन दिवस
DESCRIPTION:निर्वाचन दिवस
END:VEVENT
END:VCALENDAR