BEGIN:VCALENDAR
VERSION:2.0
PRODID:-//Nepali Calendar//EN
BEGIN:VEVENT
UID:c23f688b13cb87f420c86d8e5353fcfe@nepalicalendar.com
DTSTAMP:20260422T060330Z
DTSTART;VALUE=DATE:20250219
DTEND;VALUE=DATE:20250220
SUMMARY:प्रजातन्त्र दिवस
DESCRIPTION:प्रजातन्त्र दिवस
END:VEVENT
END:VCALENDAR