BEGIN:VCALENDAR
VERSION:2.0
PRODID:-//Nepali Calendar//EN
BEGIN:VEVENT
UID:0c43fa247f9528a6a615771a36a6f26d@nepalicalendar.com
DTSTAMP:20260422T041635Z
DTSTART;VALUE=DATE:20250315
DTEND;VALUE=DATE:20250316
SUMMARY:गणगौर पूजा प्रारम्भ
DESCRIPTION:गणगौर पूजा प्रारम्भ
END:VEVENT
END:VCALENDAR