BEGIN:VCALENDAR
VERSION:2.0
PRODID:-//Nepali Calendar//EN
BEGIN:VEVENT
UID:b5a1d41ed5551e9649aa37bc45b9ddc8@nepalicalendar.com
DTSTAMP:20260422T041527Z
DTSTART;VALUE=DATE:20250315
DTEND;VALUE=DATE:20250316
SUMMARY:तेल लगाउने र आँपको मुजुरा खाने दिन
DESCRIPTION:तेल लगाउने र आँपको मुजुरा खाने दिन
END:VEVENT
END:VCALENDAR