BEGIN:VCALENDAR
VERSION:2.0
PRODID:-//Nepali Calendar//EN
BEGIN:VEVENT
UID:257f12c092e7948f70922c6e761ddaa4@nepalicalendar.com
DTSTAMP:20260422T041405Z
DTSTART;VALUE=DATE:20250314
DTEND;VALUE=DATE:20250315
SUMMARY:विश्व उपभोक्ता अधिकार दिवस
DESCRIPTION:विश्व उपभोक्ता अधिकार दिवस
END:VEVENT
END:VCALENDAR