BEGIN:VCALENDAR
VERSION:2.0
PRODID:-//Nepali Calendar//EN
BEGIN:VEVENT
UID:dfc10b2b0785fec562e7cb5d04ee2621@nepalicalendar.com
DTSTAMP:20260422T041516Z
DTSTART;VALUE=DATE:20250314
DTEND;VALUE=DATE:20250315
SUMMARY:फागु पुर्णिमा (तराई होली)
DESCRIPTION:फागु पुर्णिमा (तराई होली)
END:VEVENT
END:VCALENDAR