BEGIN:VCALENDAR
VERSION:2.0
PRODID:-//Nepali Calendar//EN
BEGIN:VEVENT
UID:1fb059ce706583b8b17a65375ea0209a@nepalicalendar.com
DTSTAMP:20260422T041237Z
DTSTART;VALUE=DATE:20250314
DTEND;VALUE=DATE:20250315
SUMMARY:मीन संक्रान्ति
DESCRIPTION:मीन संक्रान्ति
END:VEVENT
END:VCALENDAR