BEGIN:VCALENDAR
VERSION:2.0
PRODID:-//Nepali Calendar//EN
BEGIN:VEVENT
UID:fa2d2319c4b3f2b931ab9323b033ea2d@nepalicalendar.com
DTSTAMP:20260422T060324Z
DTSTART;VALUE=DATE:20250214
DTEND;VALUE=DATE:20250215
SUMMARY:प्रणय दिवस
DESCRIPTION:प्रणय दिवस
END:VEVENT
END:VCALENDAR