BEGIN:VCALENDAR
VERSION:2.0
PRODID:-//Nepali Calendar//EN
BEGIN:VEVENT
UID:3c28040aaafebb500b39fddb292b723c@nepalicalendar.com
DTSTAMP:20260421T231816Z
DTSTART;VALUE=DATE:20250711
DTEND;VALUE=DATE:20250712
SUMMARY:विश्व जनसंख्या दिवस
DESCRIPTION:विश्व जनसंख्या दिवस
END:VEVENT
END:VCALENDAR