BEGIN:VCALENDAR
VERSION:2.0
PRODID:-//Nepali Calendar//EN
BEGIN:VEVENT
UID:3a3f5da9f8723a679eb8448582055911@nepalicalendar.com
DTSTAMP:20260422T005941Z
DTSTART;VALUE=DATE:20250515
DTEND;VALUE=DATE:20250516
SUMMARY:वृष संक्रान्ति
DESCRIPTION:वृष संक्रान्ति
END:VEVENT
END:VCALENDAR