BEGIN:VCALENDAR
VERSION:2.0
PRODID:-//Nepali Calendar//EN
BEGIN:VEVENT
UID:5530f460843cb826e0dc9cb42b1fb127@nepalicalendar.com
DTSTAMP:20260422T074632Z
DTSTART;VALUE=DATE:20250115
DTEND;VALUE=DATE:20250116
SUMMARY:राष्ट्रिय भुकम्प सुरक्षा दिवस
DESCRIPTION:राष्ट्रिय भुकम्प सुरक्षा दिवस
END:VEVENT
END:VCALENDAR