BEGIN:VCALENDAR
VERSION:2.0
PRODID:-//Nepali Calendar//EN
BEGIN:VEVENT
UID:dff2f32d878b98ab71761bc828ae6dd4@nepalicalendar.com
DTSTAMP:20260422T060448Z
DTSTART;VALUE=DATE:20250213
DTEND;VALUE=DATE:20250214
SUMMARY:कुम्भ संक्रान्ति
DESCRIPTION:कुम्भ संक्रान्ति
END:VEVENT
END:VCALENDAR