BEGIN:VCALENDAR
VERSION:2.0
PRODID:-//Nepali Calendar//EN
BEGIN:VEVENT
UID:89b14f33639f96f0d3e2bde481d37c6a@nepalicalendar.com
DTSTAMP:20260422T060400Z
DTSTART;VALUE=DATE:20250213
DTEND;VALUE=DATE:20250214
SUMMARY:विश्व रेडियो दिवस
DESCRIPTION:विश्व रेडियो दिवस
END:VEVENT
END:VCALENDAR