BEGIN:VCALENDAR
VERSION:2.0
PRODID:-//Nepali Calendar//EN
BEGIN:VEVENT
UID:4e68c749760071e15c2ab4943716d328@nepalicalendar.com
DTSTAMP:20260422T074503Z
DTSTART;VALUE=DATE:20250114
DTEND;VALUE=DATE:20250115
SUMMARY:उत्तरायण आरम्भ
DESCRIPTION:उत्तरायण आरम्भ
END:VEVENT
END:VCALENDAR