BEGIN:VCALENDAR
VERSION:2.0
PRODID:-//Nepali Calendar//EN
BEGIN:VEVENT
UID:8cc1d1161edc2338d41f41c1d7fae2a7@nepalicalendar.com
DTSTAMP:20260422T074443Z
DTSTART;VALUE=DATE:20250114
DTEND;VALUE=DATE:20250115
SUMMARY:घ्यु चाकु खाने दिन
DESCRIPTION:घ्यु चाकु खाने दिन
END:VEVENT
END:VCALENDAR