BEGIN:VCALENDAR
VERSION:2.0
PRODID:-//Nepali Calendar//EN
BEGIN:VEVENT
UID:80357b228f21b406410c92118a828862@nepalicalendar.com
DTSTAMP:20260422T074335Z
DTSTART;VALUE=DATE:20250114
DTEND;VALUE=DATE:20250115
SUMMARY:माघे संक्रान्ति
DESCRIPTION:माघे संक्रान्ति
END:VEVENT
END:VCALENDAR