BEGIN:VCALENDAR
VERSION:2.0
PRODID:-//Nepali Calendar//EN
BEGIN:VEVENT
UID:c63f88ce98e289e3647d0f141a134847@nepalicalendar.com
DTSTAMP:20260422T110904Z
DTSTART;VALUE=DATE:20250113
DTEND;VALUE=DATE:20250114
SUMMARY:राष्ट्रिय भाक्का दिवस
DESCRIPTION:राष्ट्रिय भाक्का दिवस
END:VEVENT
END:VCALENDAR