BEGIN:VCALENDAR
VERSION:2.0
PRODID:-//Nepali Calendar//EN
BEGIN:VEVENT
UID:a0427a381961d1ba2c76dd46cfb5e67b@nepalicalendar.com
DTSTAMP:20260422T092935Z
DTSTART;VALUE=DATE:20250113
DTEND;VALUE=DATE:20250114
SUMMARY:माघ स्नान
DESCRIPTION:माघ स्नान
END:VEVENT
END:VCALENDAR